BEGIN:VCALENDAR
VERSION:2.0
PRODID:-//C3 Business Solutions - ECPv6.15.20//NONSGML v1.0//EN
CALSCALE:GREGORIAN
METHOD:PUBLISH
X-ORIGINAL-URL:https://www.c3biz.com
X-WR-CALDESC:Events for C3 Business Solutions
REFRESH-INTERVAL;VALUE=DURATION:PT1H
X-Robots-Tag:noindex
X-PUBLISHED-TTL:PT1H
BEGIN:VTIMEZONE
TZID:UTC
BEGIN:STANDARD
TZOFFSETFROM:+0000
TZOFFSETTO:+0000
TZNAME:UTC
DTSTART:20200101T000000
END:STANDARD
END:VTIMEZONE
BEGIN:VEVENT
DTSTART;TZID=UTC:20250327T120000
DTEND;TZID=UTC:20250327T130000
DTSTAMP:20260423T142353
CREATED:20241203T192035Z
LAST-MODIFIED:20241203T192035Z
UID:4136-1743076800-1743080400@www.c3biz.com
SUMMARY:Build a Successful EBS to Cloud Roadmap | C3 Webinar
DESCRIPTION:
URL:https://www.c3biz.com/event/build-a-successful-ebs-to-cloud-roadmap-c3-webinar/
END:VEVENT
BEGIN:VEVENT
DTSTART;TZID=UTC:20250227T120000
DTEND;TZID=UTC:20250227T130000
DTSTAMP:20260423T142353
CREATED:20241203T192244Z
LAST-MODIFIED:20241203T192244Z
UID:4138-1740657600-1740661200@www.c3biz.com
SUMMARY:EBS vs. Cloud: Key Features Comparison | C3 Webinar
DESCRIPTION:
URL:https://www.c3biz.com/event/ebs-vs-cloud-key-features-comparison-c3-webinar/
END:VEVENT
BEGIN:VEVENT
DTSTART;TZID=UTC:20241114T120000
DTEND;TZID=UTC:20241114T130000
DTSTAMP:20260423T142353
CREATED:20240923T192300Z
LAST-MODIFIED:20240923T192300Z
UID:4133-1731585600-1731589200@www.c3biz.com
SUMMARY:Oracle Enterprise Performance Management | C3 Webinar
DESCRIPTION:
URL:https://www.c3biz.com/event/oracle-enterprise-performance-management-c3-webinar/
END:VEVENT
BEGIN:VEVENT
DTSTART;TZID=UTC:20241024T120000
DTEND;TZID=UTC:20241024T130000
DTSTAMP:20260423T142353
CREATED:20240724T165014Z
LAST-MODIFIED:20240903T185727Z
UID:4112-1729771200-1729774800@www.c3biz.com
SUMMARY:EBS To Cloud | C3 Webinar
DESCRIPTION:The Oracle EBS to Cloud webinar will cover several key topics to help organizations understand the benefits and processes involved in migrating from Oracle E-Business Suite (EBS) to Oracle Cloud. \nBy the end of the webinar\, you will have a clear understanding of the benefits of migrating to Oracle Cloud\, the steps involved in the migration process\, and how to optimize your applications post-migration for maximum efficiency and performance. \nClick the Link below to RSVP!
URL:https://www.c3biz.com/event/ebs-to-cloud-c3-webinar/
END:VEVENT
BEGIN:VEVENT
DTSTART;TZID=UTC:20240909T183000
DTEND;TZID=UTC:20240909T203000
DTSTAMP:20260423T142353
CREATED:20240515T194550Z
LAST-MODIFIED:20240520T204918Z
UID:4073-1725906600-1725913800@www.c3biz.com
SUMMARY:Oracle Open World | STK Steakhouse
DESCRIPTION:C3 Business Solutions will be in Las Vegas for Oracle Cloud World. Join the C3 team for a dinner at STK Steakhouse at The Cosmopolitan for a great time. Come one come all\, bring a guest and have fun. We look forward to seeing you there! \n  \n 
URL:https://www.c3biz.com/event/oracle-open-world-location-tbd/
END:VEVENT
BEGIN:VEVENT
DTSTART;TZID=UTC:20240829T120000
DTEND;TZID=UTC:20240829T130000
DTSTAMP:20260423T142353
CREATED:20240716T171006Z
LAST-MODIFIED:20240718T170816Z
UID:4078-1724932800-1724936400@www.c3biz.com
SUMMARY:Fusion Data Intelligence Webinar
DESCRIPTION:
URL:https://www.c3biz.com/event/fusion-data-intelligence-webinar/
END:VEVENT
BEGIN:VEVENT
DTSTART;TZID=UTC:20240627T120000
DTEND;TZID=UTC:20240627T130000
DTSTAMP:20260423T142353
CREATED:20230928T201736Z
LAST-MODIFIED:20240503T173029Z
UID:4038-1719489600-1719493200@www.c3biz.com
SUMMARY:Fusion Analytics Warehouse Webinar
DESCRIPTION:
URL:https://www.c3biz.com/event/fusion-analytics-warehouse-c3-webinar/
END:VEVENT
BEGIN:VEVENT
DTSTART;TZID=UTC:20240523T110000
DTEND;TZID=UTC:20240523T123000
DTSTAMP:20260423T142353
CREATED:20240216T214919Z
LAST-MODIFIED:20240503T173305Z
UID:4064-1716462000-1716467400@www.c3biz.com
SUMMARY:Oracle Digital Assistant Webinar
DESCRIPTION:
URL:https://www.c3biz.com/event/oracle-digital-assistant-webinar/
END:VEVENT
BEGIN:VEVENT
DTSTART;TZID=UTC:20240412T110000
DTEND;TZID=UTC:20240412T150000
DTSTAMP:20260423T142353
CREATED:20231110T211556Z
LAST-MODIFIED:20240229T172146Z
UID:4051-1712919600-1712934000@www.c3biz.com
SUMMARY:Oracle | C3 Pickleball
DESCRIPTION:
URL:https://www.c3biz.com/event/oracle-c3-pickleball/
END:VEVENT
BEGIN:VEVENT
DTSTART;TZID=UTC:20240328T120000
DTEND;TZID=UTC:20240328T130000
DTSTAMP:20260423T142353
CREATED:20240205T202353Z
LAST-MODIFIED:20240205T202503Z
UID:4059-1711627200-1711630800@www.c3biz.com
SUMMARY:Modern Financials Cloud Webinar
DESCRIPTION:
URL:https://www.c3biz.com/event/modern-financials-cloud-webinar/
END:VEVENT
BEGIN:VEVENT
DTSTART;TZID=UTC:20240307T110000
DTEND;TZID=UTC:20240307T120000
DTSTAMP:20260423T142353
CREATED:20240205T202630Z
LAST-MODIFIED:20240205T202630Z
UID:4061-1709809200-1709812800@www.c3biz.com
SUMMARY:Enterprise Performance Management - Webinar
DESCRIPTION:
URL:https://www.c3biz.com/event/enterprise-performance-management-webinar/
END:VEVENT
BEGIN:VEVENT
DTSTART;TZID=UTC:20240118T120000
DTEND;TZID=UTC:20240118T130000
DTSTAMP:20260423T142353
CREATED:20210118T120035Z
LAST-MODIFIED:20231121T191133Z
UID:4036-1705579200-1705582800@www.c3biz.com
SUMMARY:Warehouse Management System - C3 Webinar
DESCRIPTION:
URL:https://www.c3biz.com/event/ware-house-management-c3-webinar/
END:VEVENT
BEGIN:VEVENT
DTSTART;TZID=UTC:20231214T180000
DTEND;TZID=UTC:20231214T200000
DTSTAMP:20260423T142353
CREATED:20230928T202110Z
LAST-MODIFIED:20231110T211020Z
UID:4042-1702576800-1702584000@www.c3biz.com
SUMMARY:Newport Beach Christmas Boat Parade
DESCRIPTION:
URL:https://www.c3biz.com/event/newport-beach-christmas-boat-parade/
LOCATION:Balboa Bay Club\, 1221 West Coast Hwy\, Newport Beach\, CA\, 92660\, United States
END:VEVENT
BEGIN:VEVENT
DTSTART;TZID=UTC:20231024T120000
DTEND;TZID=UTC:20231024T130000
DTSTAMP:20260423T142353
CREATED:20230928T200801Z
LAST-MODIFIED:20230928T201037Z
UID:4032-1698148800-1698152400@www.c3biz.com
SUMMARY:Oracle Digital Assistant - C3 Webinar
DESCRIPTION:
URL:https://www.c3biz.com/event/oracle-digital-assistant/
END:VEVENT
BEGIN:VEVENT
DTSTART;TZID=UTC:20230405T140000
DTEND;TZID=UTC:20230405T150000
DTSTAMP:20260423T142353
CREATED:20230217T172030Z
LAST-MODIFIED:20230331T162609Z
UID:4023-1680703200-1680706800@www.c3biz.com
SUMMARY:Unlocking the Power of Oracle Cloud Financials- C3 Webinar
DESCRIPTION:
URL:https://www.c3biz.com/event/unlocking-the-power-of-oracle-cloud-financials-c3-webinar/
END:VEVENT
BEGIN:VEVENT
DTSTART;TZID=UTC:20230202T130000
DTEND;TZID=UTC:20230202T140000
DTSTAMP:20260423T142353
CREATED:20221014T161001Z
LAST-MODIFIED:20230110T171626Z
UID:3933-1675342800-1675346400@www.c3biz.com
SUMMARY:How Organizations Are Optimizing Their Business With Oracle Financials- C3 Webinar
DESCRIPTION:
URL:https://www.c3biz.com/event/how-organizations-are-optimizing-their-business-with-oracle-financials-c3-webinar/
END:VEVENT
BEGIN:VEVENT
DTSTART;TZID=UTC:20220929T120000
DTEND;TZID=UTC:20220929T130000
DTSTAMP:20260423T142353
CREATED:20220912T224659Z
LAST-MODIFIED:20220912T224659Z
UID:3930-1664452800-1664456400@www.c3biz.com
SUMMARY:Transitioning to the New Normal – How Oracle is Keeping Construction Companies Ahead of the Curve - C3 Webinar
DESCRIPTION:
URL:https://www.c3biz.com/event/transitioning-to-the-new-normal-how-oracle-is-keeping-construction-companies-ahead-of-the-curve-c3-webinar-2/
END:VEVENT
BEGIN:VEVENT
DTSTART;TZID=UTC:20220505T120000
DTEND;TZID=UTC:20220505T130000
DTSTAMP:20260423T142353
CREATED:20220323T162714Z
LAST-MODIFIED:20220418T161818Z
UID:3840-1651752000-1651755600@www.c3biz.com
SUMMARY:How Oracle is Leading the Way for the Restaurant Industry- C3 Webinar
DESCRIPTION:
URL:https://www.c3biz.com/event/how-oracle-is-leading-the-way-for-the-restaurant-industry-c3-webinar/
END:VEVENT
BEGIN:VEVENT
DTSTART;TZID=UTC:20220428T120000
DTEND;TZID=UTC:20220428T130000
DTSTAMP:20260423T142353
CREATED:20220222T233638Z
LAST-MODIFIED:20220418T161844Z
UID:3832-1651147200-1651150800@www.c3biz.com
SUMMARY:Transitioning to the New Normal – How Oracle is Keeping Construction Companies Ahead of the Curve - C3 Webinar
DESCRIPTION:
URL:https://www.c3biz.com/event/transitioning-to-the-new-normal-how-oracle-is-keeping-construction-companies-ahead-of-the-curve-c3-webinar/
END:VEVENT
BEGIN:VEVENT
DTSTART;TZID=UTC:20220311T193000
DTEND;TZID=UTC:20220311T223000
DTSTAMP:20260423T142353
CREATED:20220222T233745Z
LAST-MODIFIED:20220222T233745Z
UID:3834-1647027000-1647037800@www.c3biz.com
SUMMARY:Lakers Vs. Wizards Game Suite: C3 Sponsored Event
DESCRIPTION:
URL:https://www.c3biz.com/event/lakers-vs-wizards-game-suite-c3-sponsored-event/
END:VEVENT
BEGIN:VEVENT
DTSTART;TZID=UTC:20220204T120000
DTEND;TZID=UTC:20220204T130000
DTSTAMP:20260423T142353
CREATED:20211112T222102Z
LAST-MODIFIED:20220107T035435Z
UID:3714-1643976000-1643979600@www.c3biz.com
SUMMARY:Oracle Cloud Modern Financials- C3 Webinar
DESCRIPTION:
URL:https://www.c3biz.com/event/oracle-cloud-modern-financials-c3-webinar/
END:VEVENT
BEGIN:VEVENT
DTSTART;TZID=UTC:20211119T120000
DTEND;TZID=UTC:20211119T130000
DTSTAMP:20260423T142353
CREATED:20210903T174059Z
LAST-MODIFIED:20211027T190546Z
UID:3699-1637323200-1637326800@www.c3biz.com
SUMMARY:Supply Chain Planning - C3 Webinar
DESCRIPTION:
URL:https://www.c3biz.com/event/supply-chain-planning-c3-webinar/
END:VEVENT
BEGIN:VEVENT
DTSTART;TZID=UTC:20211028T170000
DTEND;TZID=UTC:20211028T180000
DTSTAMP:20260423T142353
CREATED:20210910T163317Z
LAST-MODIFIED:20210910T163317Z
UID:3701-1635440400-1635444000@www.c3biz.com
SUMMARY:C3's Virtual Comedy Show With Greg Hahn
DESCRIPTION:
URL:https://www.c3biz.com/event/c3s-virtual-comedy-show-with-greg-hahn/
END:VEVENT
BEGIN:VEVENT
DTSTART;TZID=UTC:20211007T120000
DTEND;TZID=UTC:20211007T130000
DTSTAMP:20260423T142353
CREATED:20210903T173705Z
LAST-MODIFIED:20211004T163100Z
UID:3695-1633608000-1633611600@www.c3biz.com
SUMMARY:(EPM) Enterprise Performance Management - C3 Webinar
DESCRIPTION:
URL:https://www.c3biz.com/event/epm-enterprise-performance-management-c3-webinar/
END:VEVENT
BEGIN:VEVENT
DTSTART;TZID=UTC:20210914T120000
DTEND;TZID=UTC:20210914T130000
DTSTAMP:20260423T142353
CREATED:20210920T233206Z
LAST-MODIFIED:20210920T233945Z
UID:3708-1631620800-1631624400@www.c3biz.com
SUMMARY:Oracle Configure\, Price\, Quote (CPQ)- C3 Webinar
DESCRIPTION:https://www.c3biz.com/wp-content/uploads/2021/09/CPQ-Webinar.mp4
URL:https://www.c3biz.com/event/oracle-configure-price-quote-cpq-c3-webinar/
END:VEVENT
BEGIN:VEVENT
DTSTART;TZID=UTC:20210520T170000
DTEND;TZID=UTC:20210520T180000
DTSTAMP:20260423T142353
CREATED:20210302T234037Z
LAST-MODIFIED:20210510T195832Z
UID:3658-1621530000-1621533600@www.c3biz.com
SUMMARY:C3 Virtual Magic Show
DESCRIPTION:Gary Ferrar invites you and your family to a one-of-a-kind magical experience that will leave you at the edge of your seat! \nAgenda:  \n5:00-5:10 – C3 Presentation \n5:10-5:50- Magic Show  \n5:50-6:00 -Q&A \nhttps://virtualmagicshow.splashthat.com/
URL:https://www.c3biz.com/event/c3-virtual-magic-show/
END:VEVENT
BEGIN:VEVENT
DTSTART;TZID=UTC:20210422T183000
DTEND;TZID=UTC:20210422T193000
DTSTAMP:20260423T142353
CREATED:20210302T233704Z
LAST-MODIFIED:20210302T233704Z
UID:3656-1619116200-1619119800@www.c3biz.com
SUMMARY:C3 Virtual Whiskey Tasting
DESCRIPTION:Join us\, as Whiskey Ranger Creek brings the tasting room experience to your living room through a guided\, expert-led\, virtual tasting! \nAgenda: \n6:30-6:45 – C3 presentation \n6:45-7:15 – Guided whiskey experience \n7:15-7:30- Q&A  \nhttps://www.eventbrite.com/e/c3-virtual-whiskey-tasting-tickets-143165310297
URL:https://www.c3biz.com/event/c3-virtual-whiskey-tasting/
END:VEVENT
BEGIN:VEVENT
DTSTART;TZID=UTC:20210415T120000
DTEND;TZID=UTC:20210415T130000
DTSTAMP:20260423T142353
CREATED:20210302T232953Z
LAST-MODIFIED:20210302T233157Z
UID:3653-1618488000-1618491600@www.c3biz.com
SUMMARY:C3 Webinar: EBS to Cloud Order to Cash
DESCRIPTION:Give your organization the competitive edge it needs ! Learn how Oracle can revamp your organization starting with Order to Cash! \nAgenda: \n12:00 – 12:30 Look and Feel  \n12:30 – 12:45 Features  \n12:45 – 1:00 Q&A \nhttps://www.eventbrite.com/e/143162937199/
URL:https://www.c3biz.com/event/c3-webinar-ebs-to-cloud-order-to-cash/
END:VEVENT
BEGIN:VEVENT
DTSTART;TZID=UTC:20210325T120000
DTEND;TZID=UTC:20210325T130000
DTSTAMP:20260423T142353
CREATED:20210301T235349Z
LAST-MODIFIED:20210301T235849Z
UID:3646-1616673600-1616677200@www.c3biz.com
SUMMARY:C3 Webinar: EBS to Cloud Procurement to Pay
DESCRIPTION:The Oracle cloud finance applications have helped streamline multiple organizations. Join us to learn how Oracle can give your organization the competitive edge it needs. Sign up today with the link below. \nhttps://www.eventbrite.com/e/142137235297/ \nAgenda: \n12:00 – 12:30 Look and Feel  \n12:30 – 12:45 Features  \n12:45 – 1:00 Q&A \n 
URL:https://www.c3biz.com/event/c3-webinar-ebs-to-cloud-procurement-to-pay/
END:VEVENT
END:VCALENDAR